BEGIN:VCALENDAR
VERSION:2.0
PRODID:-//Luina Bio - ECPv5.0.0//NONSGML v1.0//EN
CALSCALE:GREGORIAN
METHOD:PUBLISH
X-WR-CALNAME:Luina Bio
X-ORIGINAL-URL:http://staging.luinabio.com.au
X-WR-CALDESC:Events for Luina Bio
BEGIN:VTIMEZONE
TZID:UTC
BEGIN:STANDARD
TZOFFSETFROM:+0000
TZOFFSETTO:+0000
TZNAME:UTC
DTSTART:20200101T000000
END:STANDARD
END:VTIMEZONE
BEGIN:VEVENT
DTSTART;VALUE=DATE:20200331
DTEND;VALUE=DATE:20200402
DTSTAMP:20200228T154156
CREATED:20200124T065054Z
LAST-MODIFIED:20200124T065054Z
UID:2088-1585612800-1585785599@staging.luinabio.com.au
SUMMARY:Phar East Asia's Pharma & Biotech Festival
DESCRIPTION:\n\n	Related\n
URL:http://staging.luinabio.com.au/event/phar-east-asias-pharma-biotech-festival/
LOCATION:Resorts World Convention Centre\, Singapore
END:VEVENT
END:VCALENDAR