BEGIN:VCALENDAR
VERSION:2.0
PRODID:-//Luina Bio - ECPv5.0.0//NONSGML v1.0//EN
CALSCALE:GREGORIAN
METHOD:PUBLISH
X-WR-CALNAME:Luina Bio
X-ORIGINAL-URL:http://staging.luinabio.com.au
X-WR-CALDESC:Events for Luina Bio
BEGIN:VTIMEZONE
TZID:UTC
BEGIN:STANDARD
TZOFFSETFROM:+0000
TZOFFSETTO:+0000
TZNAME:UTC
DTSTART:20200101T000000
END:STANDARD
END:VTIMEZONE
BEGIN:VEVENT
DTSTART;VALUE=DATE:20200206
DTEND;VALUE=DATE:20200208
DTSTAMP:20200228T154111
CREATED:20200124T061638Z
LAST-MODIFIED:20200124T061638Z
UID:2075-1580947200-1581119999@staging.luinabio.com.au
SUMMARY:Gen-Next Probiotics and Microbiome Congress
DESCRIPTION:\n\n	Related\n
URL:http://staging.luinabio.com.au/event/gen-next-probiotics-and-microbiome-congress/
LOCATION:Sheraton San Diego Hotel and Marina\, San Diego\, USA
END:VEVENT
END:VCALENDAR